Workbook

Sheet Intructions Page
F1: For T&E use only
F2: 2026 Form
B6: PERSONAL VEHICLE USE REIMBURSEMENT FORM
B8: Information and Instructions:
B9: This form should be completed by T&E employees requesting reimbursement for mileage incurred when using their personal vehicle for Metro-North Railroad official business.
B11: 1) Fill out Section 1: Mileage Reimbursement Detail and Overflow Forms (as needed) Section 2: Accounting Information Summary Section 3: Authorization with employee signature
B13: 2) Fields that contain a * prefix are required fields. Forms with missing required fields are rejected and sent back to the requestor for adjustment and resubmission.
B15: 3) Charge the Responsibility Center to where you are traveling to or the nearest crew base for the entire roundtrip. All codes should be summarized in Section 2: Accounting Information Summary.
B17: 4) After completing form, attach supporting documentation (parking and toll receipts) and deposit this into the AP30 box located in the lobby of CMC. The submission will be reviewed and approved by CMC office and forwarded to MNR Payroll at MNRMileage@MNR.org for processing.
B19: 5) Per policy, expenses for the month must be submitted to Payroll for processing by the end of the following month for payment in a timely manner. For example: all expenses incurred for the month of June must be submitted by July 31st.
B21: 6) The reimbursement will be included in the regular payroll check and will be shown as PE (Personal Expense).
B26: Note: Refer to the Corporate Policy and Operating Procedure 10-019 Personal Vehicle Use for more details.

Sheet Reimbursement Form Pg 1
M1: For T&E use only
M2: 2026 Form
C6: PERSONAL VEHICLE USE REIMBURSEMENT FORM
B8: *First Name | G8: *Last Name
B9: *Email | G9: *Tel No | J9: *MNR ID: | L9: *BSC ID:
C11: Section 1: Mileage Reimbursement Detail | H11: List each trip from one location to another SEPARATELY.
H12: Please spell out completely the names in "From" and "To".
C14: Use Reimbursement Overflow sheet if necessary.
C15: Mileage
C16: *Date | D16: *Responsibility Center | E16: *Job Number | F16: *Purpose/Work Order | H16: *Travel Points "From" | K16: *Travel Points "To" | M16: *Total Miles
B17: 1
B18: =+B17+1 -> 2
B19: =+B18+1 -> 3
B20: =+B19+1 -> 4
B21: =+B20+1 -> 5
B22: =+B21+1 -> 6
B23: =+B22+1 -> 7
B24: =+B23+1 -> 8
B25: =+B24+1 -> 9
B26: =+B25+1 -> 10
B27: =+B26+1 -> 11
B28: =+B27+1 -> 12
B29: =+B28+1 -> 13
B30: 14
K31: *Total Miles from this Sheet | M31: =SUM(M17:M30) -> 0
L32: *Total Miles from Overflow Sheets | M32: =+'Reimbursement Overflow Pg 2'!$K$44+'Reimbursement Overflow Pg 3'!K44+'Reimbursement Overflow Pg 4'!K44+'Reimbursement Overflow Pg5'!K44+'Reimbursement Overflow Pg6'!K44+'Reimbursement Overflow Pg7'!K44+'Reimbursement Overflow Pg8'!K44 -> 0
L33: *Grand Total Miles | M33: =SUM(M31:M32) -> 0
L34: *Rate per Mile | M34: 0.76
L35: *Total Mileage Expenses (excludes personal expenses) | M35: =+M33*M34 -> 0
C36: Parking & Tolls (Attach receipts)
C37: *Date | D37: *Responsibility Center | E37: *Job Number | F37: *Purpose/Work Order | H37: *Parking Fees | K37: *Tolls Paid | M37: *Total Parking & Tolls
B38: 1 | M38: =SUM(H38:L38) -> 0
B39: =+B38+1 -> 2 | M39: =SUM(H39:L39) -> 0
B40: =+B39+1 -> 3 | M40: =SUM(H40:L40) -> 0
B41: =+B40+1 -> 4 | M41: =SUM(H41:L41) -> 0
B42: =+B41+1 -> 5 | M42: =SUM(H42:L42) -> 0
B43: =+B42+1 -> 6 | M43: =SUM(H43:L43) -> 0
B44: =+B43+1 -> 7 | M44: =SUM(H44:L44) -> 0
L45: *Total Parking & Tolls from this Sheet | M45: =SUM(M38:M44) -> 0
L46: *Total Parking & Tolls from Overflow Sheets | M46: =+'Reimbursement Overflow Pg 2'!K93+'Reimbursement Overflow Pg 3'!K93+'Reimbursement Overflow Pg 4'!K93+'Reimbursement Overflow Pg5'!K93+'Reimbursement Overflow Pg6'!K93+'Reimbursement Overflow Pg7'!K93+'Reimbursement Overflow Pg8'!K93 -> 0
...

Sheet Reimbursement Overflow Pg 2
K1: For T&E use only
B7: MILEAGE REIMBURSEMENT OVERFLOW FORM
B9: *First Name | C9: =+'Reimbursement Form Pg 1'!D8 -> 0 | F9: *Last Name | G9: =+'Reimbursement Form Pg 1'!I8 -> 0 | H9: *MNR ID: | I9: =+'Reimbursement Form Pg 1'!K9 -> 0 | J9: *BSC ID: | K9: =+'Reimbursement Form Pg 1'!M9 -> 0
B11: Attach additional sheets if necessary.
B12: Mileage
B13: *Date | C13: *Responsibility Center | D13: *Job Number | E13: *Purpose/Work Order | G13: *Travel Points "From" | I13: *Travel Points "To" | K13: *Total Miles
A14: 15
A15: =+A14+1 -> 16
A16: =+A15+1 -> 17
A17: =+A16+1 -> 18
A18: =+A17+1 -> 19
A19: =+A18+1 -> 20
A20: =+A19+1 -> 21
A21: =+A20+1 -> 22
A22: =+A21+1 -> 23
A23: =+A22+1 -> 24
A24: =+A23+1 -> 25
A25: =+A24+1 -> 26
A26: =+A25+1 -> 27
... A43: =+A42+1 -> 44
J44: *Total Miles | K44: =SUM(K14:K43) -> 0
B56: PARKING & TOLLS REIMBURSEMENT OVERFLOW FORM
B58: *First Name | E58: =+'Reimbursement Form Pg 1'!F8 -> 0 | F58: *Last Name | G58: =+'Reimbursement Form Pg 1'!I8 -> 0 | H58: *MNR ID: | I58: =+'Reimbursement Form Pg 1'!K9 -> 0 | J58: *BSC ID: | K58: =+'Reimbursement Form Pg 1'!M9 -> 0
B60: Parking & Tolls | E60: (Attach receipts)
B61: *Date | C61: *Responsibility Center | D61: *Job Number | E61: *Purpose/Work Order | G61: *Parking Fees | I61: *Tolls Paid | K61: *Total Parking & Tolls
A62: 8 | K62: =SUM(G62:J62) -> 0
A63: =+A62+1 -> 9 | K63: =SUM(G63:J63) -> 0
A64: =+A63+1 -> 10 | K64: =SUM(G64:J64) -> 0
A65: =+A64+1 -> 11 | K65: =SUM(G65:J65) -> 0
A66: =+A65+1 -> 12 | K66: =SUM(G66:J66) -> 0
A67: =+A66+1 -> 13 | K67: =SUM(G67:J67) -> 0
A68: =+A67+1 -> 14 | K68: =SUM(G68:J68) -> 0
A69: =+A68+1 -> 15 | K69: =SUM(G69:J69) -> 0
A70: =+A69+1 -> 16 | K70: =SUM(G70:J70) -> 0
A71: =+A70+1 -> 17 | K71: =SUM(G71:J71) -> 0
A72: =+A71+1 -> 18 | K72: =SUM(G72:J72) -> 0
A73: =+A72+1 -> 19 | K73: =SUM(G73:J73) -> 0
A74: =+A73+1 -> 20 | K74: =SUM(G74:J74) -> 0
... A92: =+A91+1 -> 38 | K92: =SUM(G92:J92) -> 0
J93: *Total Parking & Tolls | K93: =SUM(K62:K92) -> 0

Sheet Reimbursement Overflow Pg 3
K1: For T&E use only
B7: MILEAGE REIMBURSEMENT OVERFLOW FORM
B9: *First Name | E9: =+'Reimbursement Form Pg 1'!F8 -> 0 | F9: *Last Name | G9: =+'Reimbursement Form Pg 1'!I8 -> 0 | H9: *MNR ID: | I9: =+'Reimbursement Form Pg 1'!K9 -> 0 | J9: *BSC ID: | K9: =+'Reimbursement Form Pg 1'!M9 -> 0
B11: Attach additional sheets if necessary.
B12: Mileage
B13: *Date | C13: *Responsibility Center | D13: *Job Number | E13: *Purpose/Work Order | G13: *Travel Points "From" | I13: *Travel Points "To" | K13: *Total Miles
A14: 15
A15: =+A14+1 -> 16
A16: =+A15+1 -> 17
A17: =+A16+1 -> 18
A18: =+A17+1 -> 19
A19: =+A18+1 -> 20
A20: =+A19+1 -> 21
A21: =+A20+1 -> 22
A22: =+A21+1 -> 23
A23: =+A22+1 -> 24
A24: =+A23+1 -> 25
A25: =+A24+1 -> 26
A26: =+A25+1 -> 27
... A43: =+A42+1 -> 44
J44: *Total Miles | K44: =SUM(K14:K43) -> 0
B56: PARKING & TOLLS REIMBURSEMENT OVERFLOW FORM
B58: *First Name | E58: =+'Reimbursement Form Pg 1'!F8 -> 0 | F58: *Last Name | G58: =+'Reimbursement Form Pg 1'!I8 -> 0 | H58: *MNR ID: | I58: =+'Reimbursement Form Pg 1'!K9 -> 0 | J58: *BSC ID: | K58: =+'Reimbursement Form Pg 1'!M9 -> 0
B60: Parking & Tolls | E60: (Attach receipts)
B61: *Date | C61: *Responsibility Center | D61: *Job Number | E61: *Purpose/Work Order | G61: *Parking Fees | I61: *Tolls Paid | K61: *Total Parking & Tolls
A62: 8 | K62: =SUM(G62:J62) -> 0
A63: =+A62+1 -> 9 | K63: =SUM(G63:J63) -> 0
A64: =+A63+1 -> 10 | K64: =SUM(G64:J64) -> 0
A65: =+A64+1 -> 11 | K65: =SUM(G65:J65) -> 0
A66: =+A65+1 -> 12 | K66: =SUM(G66:J66) -> 0
A67: =+A66+1 -> 13 | K67: =SUM(G67:J67) -> 0
A68: =+A67+1 -> 14 | K68: =SUM(G68:J68) -> 0
A69: =+A68+1 -> 15 | K69: =SUM(G69:J69) -> 0
A70: =+A69+1 -> 16 | K70: =SUM(G70:J70) -> 0
A71: =+A70+1 -> 17 | K71: =SUM(G71:J71) -> 0
A72: =+A71+1 -> 18 | K72: =SUM(G72:J72) -> 0
A73: =+A72+1 -> 19 | K73: =SUM(G73:J73) -> 0
A74: =+A73+1 -> 20 | K74: =SUM(G74:J74) -> 0
... A92: =+A91+1 -> 38 | K92: =SUM(G92:J92) -> 0
J93: *Total Parking & Tolls | K93: =SUM(K62:K92) -> 0

Sheet Reimbursement Overflow Pg 4
K1: For T&E use only
B7: MILEAGE REIMBURSEMENT OVERFLOW FORM
B9: *First Name | E9: =+'Reimbursement Form Pg 1'!F8 -> 0 | F9: *Last Name | G9: =+'Reimbursement Form Pg 1'!I8 -> 0 | H9: *MNR ID: | I9: =+'Reimbursement Form Pg 1'!K9 -> 0 | J9: *BSC ID: | K9: =+'Reimbursement Form Pg 1'!M9 -> 0
B11: Attach additional sheets if necessary.
B12: Mileage
B13: *Date | C13: *Responsibility Center | D13: *Job Number | E13: *Purpose/Work Order | G13: *Travel Points "From" | I13: *Travel Points "To" | K13: *Total Miles
A14: 15
A15: =+A14+1 -> 16
A16: =+A15+1 -> 17
A17: =+A16+1 -> 18
A18: =+A17+1 -> 19
A19: =+A18+1 -> 20
A20: =+A19+1 -> 21
A21: =+A20+1 -> 22
A22: =+A21+1 -> 23
A23: =+A22+1 -> 24
A24: =+A23+1 -> 25
A25: =+A24+1 -> 26
A26: =+A25+1 -> 27
... A43: =+A42+1 -> 44
J44: *Total Miles | K44: =SUM(K14:K43) -> 0
B56: PARKING & TOLLS REIMBURSEMENT OVERFLOW FORM
B58: *First Name | E58: =+'Reimbursement Form Pg 1'!F8 -> 0 | F58: *Last Name | G58: =+'Reimbursement Form Pg 1'!I8 -> 0 | H58: *MNR ID: | I58: =+'Reimbursement Form Pg 1'!K9 -> 0 | J58: *BSC ID: | K58: =+'Reimbursement Form Pg 1'!M9 -> 0
B60: Parking & Tolls | E60: (Attach receipts)
B61: *Date | C61: *Responsibility Center | D61: *Job Number | E61: *Purpose/Work Order | G61: *Parking Fees | I61: *Tolls Paid | K61: *Total Parking & Tolls
A62: 8 | K62: =SUM(G62:J62) -> 0
A63: =+A62+1 -> 9 | K63: =SUM(G63:J63) -> 0
A64: =+A63+1 -> 10 | K64: =SUM(G64:J64) -> 0
A65: =+A64+1 -> 11 | K65: =SUM(G65:J65) -> 0
A66: =+A65+1 -> 12 | K66: =SUM(G66:J66) -> 0
A67: =+A66+1 -> 13 | K67: =SUM(G67:J67) -> 0
A68: =+A67+1 -> 14 | K68: =SUM(G68:J68) -> 0
A69: =+A68+1 -> 15 | K69: =SUM(G69:J69) -> 0
A70: =+A69+1 -> 16 | K70: =SUM(G70:J70) -> 0
A71: =+A70+1 -> 17 | K71: =SUM(G71:J71) -> 0
A72: =+A71+1 -> 18 | K72: =SUM(G72:J72) -> 0
A73: =+A72+1 -> 19 | K73: =SUM(G73:J73) -> 0
A74: =+A73+1 -> 20 | K74: =SUM(G74:J74) -> 0
... A92: =+A91+1 -> 38 | K92: =SUM(G92:J92) -> 0
J93: *Total Parking & Tolls | K93: =SUM(K62:K92) -> 0

Sheet Reimbursement Overflow Pg5
K1: For T&E use only
B7: MILEAGE REIMBURSEMENT OVERFLOW FORM
B9: *First Name | E9: =+'Reimbursement Form Pg 1'!F8 -> 0 | F9: *Last Name | G9: =+'Reimbursement Form Pg 1'!I8 -> 0 | H9: *MNR ID: | I9: =+'Reimbursement Form Pg 1'!K9 -> 0 | J9: *BSC ID: | K9: =+'Reimbursement Form Pg 1'!M9 -> 0
B11: Attach additional sheets if necessary.
B12: Mileage
B13: *Date | C13: *Responsibility Center | D13: *Job Number | E13: *Purpose/Work Order | G13: *Travel Points "From" | I13: *Travel Points "To" | K13: *Total Miles
A14: 15
A15: =+A14+1 -> 16
A16: =+A15+1 -> 17
A17: =+A16+1 -> 18
A18: =+A17+1 -> 19
A19: =+A18+1 -> 20
A20: =+A19+1 -> 21
A21: =+A20+1 -> 22
A22: =+A21+1 -> 23
A23: =+A22+1 -> 24
A24: =+A23+1 -> 25
A25: =+A24+1 -> 26
A26: =+A25+1 -> 27
... A43: =+A42+1 -> 44
J44: *Total Miles | K44: =SUM(K14:K43) -> 0
B56: PARKING & TOLLS REIMBURSEMENT OVERFLOW FORM
B58: *First Name | E58: =+'Reimbursement Form Pg 1'!F8 -> 0 | F58: *Last Name | G58: =+'Reimbursement Form Pg 1'!I8 -> 0 | H58: *MNR ID: | I58: =+'Reimbursement Form Pg 1'!K9 -> 0 | J58: *BSC ID: | K58: =+'Reimbursement Form Pg 1'!M9 -> 0
B60: Parking & Tolls | E60: (Attach receipts)
B61: *Date | C61: *Responsibility Center | D61: *Job Number | E61: *Purpose/Work Order | G61: *Parking Fees | I61: *Tolls Paid | K61: *Total Parking & Tolls
A62: 8 | K62: =SUM(G62:J62) -> 0
A63: =+A62+1 -> 9 | K63: =SUM(G63:J63) -> 0
A64: =+A63+1 -> 10 | K64: =SUM(G64:J64) -> 0
A65: =+A64+1 -> 11 | K65: =SUM(G65:J65) -> 0
A66: =+A65+1 -> 12 | K66: =SUM(G66:J66) -> 0
A67: =+A66+1 -> 13 | K67: =SUM(G67:J67) -> 0
A68: =+A67+1 -> 14 | K68: =SUM(G68:J68) -> 0
A69: =+A68+1 -> 15 | K69: =SUM(G69:J69) -> 0
A70: =+A69+1 -> 16 | K70: =SUM(G70:J70) -> 0
A71: =+A70+1 -> 17 | K71: =SUM(G71:J71) -> 0
A72: =+A71+1 -> 18 | K72: =SUM(G72:J72) -> 0
A73: =+A72+1 -> 19 | K73: =SUM(G73:J73) -> 0
A74: =+A73+1 -> 20 | K74: =SUM(G74:J74) -> 0
... A92: =+A91+1 -> 38 | K92: =SUM(G92:J92) -> 0
J93: *Total Parking & Tolls | K93: =SUM(K62:K92) -> 0

Sheet Reimbursement Overflow Pg6
K1: For T&E use only
B7: MILEAGE REIMBURSEMENT OVERFLOW FORM
B9: *First Name | E9: =+'Reimbursement Form Pg 1'!F8 -> 0 | F9: *Last Name | G9: =+'Reimbursement Form Pg 1'!I8 -> 0 | H9: *MNR ID: | I9: =+'Reimbursement Form Pg 1'!K9 -> 0 | J9: *BSC ID: | K9: =+'Reimbursement Form Pg 1'!M9 -> 0
B11: Attach additional sheets if necessary.
B12: Mileage
B13: *Date | C13: *Responsibility Center | D13: *Job Number | E13: *Purpose/Work Order | G13: *Travel Points "From" | I13: *Travel Points "To" | K13: *Total Miles
A14: 15
A15: =+A14+1 -> 16
A16: =+A15+1 -> 17
A17: =+A16+1 -> 18
A18: =+A17+1 -> 19
A19: =+A18+1 -> 20
A20: =+A19+1 -> 21
A21: =+A20+1 -> 22
A22: =+A21+1 -> 23
A23: =+A22+1 -> 24
A24: =+A23+1 -> 25
A25: =+A24+1 -> 26
A26: =+A25+1 -> 27
... A43: =+A42+1 -> 44
J44: *Total Miles | K44: =SUM(K14:K43) -> 0
B56: PARKING & TOLLS REIMBURSEMENT OVERFLOW FORM
B58: *First Name | E58: =+'Reimbursement Form Pg 1'!F8 -> 0 | F58: *Last Name | G58: =+'Reimbursement Form Pg 1'!I8 -> 0 | H58: *MNR ID: | I58: =+'Reimbursement Form Pg 1'!K9 -> 0 | J58: *BSC ID: | K58: =+'Reimbursement Form Pg 1'!M9 -> 0
B60: Parking & Tolls | E60: (Attach receipts)
B61: *Date | C61: *Responsibility Center | D61: *Job Number | E61: *Purpose/Work Order | G61: *Parking Fees | I61: *Tolls Paid | K61: *Total Parking & Tolls
A62: 8 | K62: =SUM(G62:J62) -> 0
A63: =+A62+1 -> 9 | K63: =SUM(G63:J63) -> 0
A64: =+A63+1 -> 10 | K64: =SUM(G64:J64) -> 0
A65: =+A64+1 -> 11 | K65: =SUM(G65:J65) -> 0
A66: =+A65+1 -> 12 | K66: =SUM(G66:J66) -> 0
A67: =+A66+1 -> 13 | K67: =SUM(G67:J67) -> 0
A68: =+A67+1 -> 14 | K68: =SUM(G68:J68) -> 0
A69: =+A68+1 -> 15 | K69: =SUM(G69:J69) -> 0
A70: =+A69+1 -> 16 | K70: =SUM(G70:J70) -> 0
A71: =+A70+1 -> 17 | K71: =SUM(G71:J71) -> 0
A72: =+A71+1 -> 18 | K72: =SUM(G72:J72) -> 0
A73: =+A72+1 -> 19 | K73: =SUM(G73:J73) -> 0
A74: =+A73+1 -> 20 | K74: =SUM(G74:J74) -> 0
... A92: =+A91+1 -> 38 | K92: =SUM(G92:J92) -> 0
J93: *Total Parking & Tolls | K93: =SUM(K62:K92) -> 0

Sheet Reimbursement Overflow Pg7
K1: For T&E use only
B7: MILEAGE REIMBURSEMENT OVERFLOW FORM
B9: *First Name | E9: =+'Reimbursement Form Pg 1'!F8 -> 0 | F9: *Last Name | G9: =+'Reimbursement Form Pg 1'!I8 -> 0 | H9: *MNR ID: | I9: =+'Reimbursement Form Pg 1'!K9 -> 0 | J9: *BSC ID: | K9: =+'Reimbursement Form Pg 1'!M9 -> 0
B11: Attach additional sheets if necessary.
B12: Mileage
B13: *Date | C13: *Responsibility Center | D13: *Job Number | E13: *Purpose/Work Order | G13: *Travel Points "From" | I13: *Travel Points "To" | K13: *Total Miles
A14: 15
A15: =+A14+1 -> 16
A16: =+A15+1 -> 17
A17: =+A16+1 -> 18
A18: =+A17+1 -> 19
A19: =+A18+1 -> 20
A20: =+A19+1 -> 21
A21: =+A20+1 -> 22
A22: =+A21+1 -> 23
A23: =+A22+1 -> 24
A24: =+A23+1 -> 25
A25: =+A24+1 -> 26
A26: =+A25+1 -> 27
... A43: =+A42+1 -> 44
J44: *Total Miles | K44: =SUM(K14:K43) -> 0
B56: PARKING & TOLLS REIMBURSEMENT OVERFLOW FORM
B58: *First Name | E58: =+'Reimbursement Form Pg 1'!F8 -> 0 | F58: *Last Name | G58: =+'Reimbursement Form Pg 1'!I8 -> 0 | H58: *MNR ID: | I58: =+'Reimbursement Form Pg 1'!K9 -> 0 | J58: *BSC ID: | K58: =+'Reimbursement Form Pg 1'!M9 -> 0
B60: Parking & Tolls | E60: (Attach receipts)
B61: *Date | C61: *Responsibility Center | D61: *Job Number | E61: *Purpose/Work Order | G61: *Parking Fees | I61: *Tolls Paid | K61: *Total Parking & Tolls
A62: 8 | K62: =SUM(G62:J62) -> 0
A63: =+A62+1 -> 9 | K63: =SUM(G63:J63) -> 0
A64: =+A63+1 -> 10 | K64: =SUM(G64:J64) -> 0
A65: =+A64+1 -> 11 | K65: =SUM(G65:J65) -> 0
A66: =+A65+1 -> 12 | K66: =SUM(G66:J66) -> 0
A67: =+A66+1 -> 13 | K67: =SUM(G67:J67) -> 0
A68: =+A67+1 -> 14 | K68: =SUM(G68:J68) -> 0
A69: =+A68+1 -> 15 | K69: =SUM(G69:J69) -> 0
A70: =+A69+1 -> 16 | K70: =SUM(G70:J70) -> 0
A71: =+A70+1 -> 17 | K71: =SUM(G71:J71) -> 0
A72: =+A71+1 -> 18 | K72: =SUM(G72:J72) -> 0
A73: =+A72+1 -> 19 | K73: =SUM(G73:J73) -> 0
A74: =+A73+1 -> 20 | K74: =SUM(G74:J74) -> 0
... A92: =+A91+1 -> 38 | K92: =SUM(G92:J92) -> 0
J93: *Total Parking & Tolls | K93: =SUM(K62:K92) -> 0

Sheet Reimbursement Overflow Pg8
K1: For T&E use only
B7: MILEAGE REIMBURSEMENT OVERFLOW FORM
B9: *First Name | E9: =+'Reimbursement Form Pg 1'!F8 -> 0 | F9: *Last Name | G9: =+'Reimbursement Form Pg 1'!I8 -> 0 | H9: *MNR ID: | I9: =+'Reimbursement Form Pg 1'!K9 -> 0 | J9: *BSC ID: | K9: =+'Reimbursement Form Pg 1'!M9 -> 0
B11: Attach additional sheets if necessary.
B12: Mileage
B13: *Date | C13: *Responsibility Center | D13: *Job Number | E13: *Purpose/Work Order | G13: *Travel Points "From" | I13: *Travel Points "To" | K13: *Total Miles
A14: 15
A15: =+A14+1 -> 16
A16: =+A15+1 -> 17
A17: =+A16+1 -> 18
A18: =+A17+1 -> 19
A19: =+A18+1 -> 20
A20: =+A19+1 -> 21
A21: =+A20+1 -> 22
A22: =+A21+1 -> 23
A23: =+A22+1 -> 24
A24: =+A23+1 -> 25
A25: =+A24+1 -> 26
A26: =+A25+1 -> 27
... A43: =+A42+1 -> 44
J44: *Total Miles | K44: =SUM(K14:K43) -> 0
B56: PARKING & TOLLS REIMBURSEMENT OVERFLOW FORM
B58: *First Name | E58: =+'Reimbursement Form Pg 1'!F8 -> 0 | F58: *Last Name | G58: =+'Reimbursement Form Pg 1'!I8 -> 0 | H58: *MNR ID: | I58: =+'Reimbursement Form Pg 1'!K9 -> 0 | J58: *BSC ID: | K58: =+'Reimbursement Form Pg 1'!M9 -> 0
B60: Parking & Tolls | E60: (Attach receipts)
B61: *Date | C61: *Responsibility Center | D61: *Job Number | E61: *Purpose/Work Order | G61: *Parking Fees | I61: *Tolls Paid | K61: *Total Parking & Tolls
A62: 8 | K62: =SUM(G62:J62) -> 0
A63: =+A62+1 -> 9 | K63: =SUM(G63:J63) -> 0
A64: =+A63+1 -> 10 | K64: =SUM(G64:J64) -> 0
A65: =+A64+1 -> 11 | K65: =SUM(G65:J65) -> 0
A66: =+A65+1 -> 12 | K66: =SUM(G66:J66) -> 0
A67: =+A66+1 -> 13 | K67: =SUM(G67:J67) -> 0
A68: =+A67+1 -> 14 | K68: =SUM(G68:J68) -> 0
A69: =+A68+1 -> 15 | K69: =SUM(G69:J69) -> 0
A70: =+A69+1 -> 16 | K70: =SUM(G70:J70) -> 0
A71: =+A70+1 -> 17 | K71: =SUM(G71:J71) -> 0
A72: =+A71+1 -> 18 | K72: =SUM(G72:J72) -> 0
A73: =+A72+1 -> 19 | K73: =SUM(G73:J73) -> 0
A74: =+A73+1 -> 20 | K74: =SUM(G74:J74) -> 0
... A92: =+A91+1 -> 38 | K92: =SUM(G92:J92) -> 0
J93: *Total Parking & Tolls | K93: =SUM(K62:K92) -> 0

Sheet Accounting & Approvals Pg 9
H1: For T&E use only
B7: PERSONAL VEHICLE USE REIMBURSEMENT FORM
B9: Section 2: Accounting Information Summary
B10: Summarize Section 1 by Responsibility Center and Work Order.
B12: Ledger Account | C12: *Responsibility Center | D12: Cost Center | E12: Function Code | F12: *Work Order | G12: Fund Code | H12: *Amount
B13: 724012 | D13: 99109 | E13: 031 | G13: 61
B14: 724012 | D14: 99109 | E14: 031 | G14: 61
B15: 724012 | D15: 99109 | E15: 031 | G15: 61
B16: 724012 | D16: 99109 | E16: 031 | G16: 61
B17: 724012 | D17: 99109 | E17: 031 | G17: 61
B18: 724012 | D18: 99109 | E18: 031 | G18: 61
B19: 724012 | D19: 99109 | E19: 031 | G19: 61
B20: 724012 | D20: 99109 | E20: 031 | G20: 61
B21: 724012 | D21: 99109 | E21: 031 | G21: 61
B22: 724012 | D22: 99109 | E22: 031 | G22: 61
B23: 724012 | D23: 99109 | E23: 031 | G23: 61
B24: 724012 | D24: 99109 | E24: 031 | G24: 61
... B34: 724012 | D34: 99109 | E34: 031 | G34: 61
G35: *Total per above | H35: =SUM(H13:H34) -> 0
G36: *Total Mileage, Parking &Tolls from page 1 | H36: =+'Reimbursement Form Pg 1'!M49 -> 0
G37: Check S/B = 0 | H37: =+H35-H36 -> 0
B39: Section 3: Authorization
B40: I have reviewed the items listed on this form and I hereby certify that the expenditures shown were incurred for the benefit and interest of Metro-North Railroad, does not include any commutation costs, and have not been included in another expense report.
B41: *Employee Name: | C41: =CONCATENATE('Reimbursement Form Pg 1'!F8," ",'Reimbursement Form Pg 1'!I8) | E41: *Employee Signature: | G41: *Date
B42: I have reviewed this report and all attachments and approve it for submission in accordance with the Metro-North Railroad Corporate Policy and Operating Procedure 10-019 Personal Vehicle Use. One approver is required.
B43: Approved by: | E43: Signature | G43: Date
B44: Title: | C44: Assistant Director, CMC Officer
B46: Approved by: | E46: Signature | G46: Date
B47: Title:
